BEGIN:VCALENDAR
VERSION:2.0
PRODID:icalendar-ruby
CALSCALE:GREGORIAN
BEGIN:VEVENT
DTSTAMP:20210120T052847Z
UID:e3a34358-9585-4ff0-80f6-78928296ca48
DTSTART;VALUE=DATE:20201022
DESCRIPTION:Property ID# 472740\, Locatoin: 96 Ulster Street\, Hamilton\, T
 ime: 4:00PM
SUMMARY:Auction for 254a Tauwhare Road
END:VEVENT
END:VCALENDAR
