BEGIN:VCALENDAR
VERSION:2.0
PRODID:icalendar-ruby
CALSCALE:GREGORIAN
BEGIN:VEVENT
DTSTAMP:20210120T052915Z
UID:66971f8e-04ef-4c20-8ec3-83fc5b8b5bfa
DTSTART;VALUE=DATE:20200312
DESCRIPTION:Property ID# 471432\, Locatoin: 96 Ulster Street\, Hamilton\, T
 ime: 12:00PM
SUMMARY:Auction for 
END:VEVENT
END:VCALENDAR
