BEGIN:VCALENDAR
VERSION:2.0
PRODID:icalendar-ruby
CALSCALE:GREGORIAN
BEGIN:VEVENT
DTSTAMP:20210120T054004Z
UID:f5a2c420-9058-41b9-b266-2f04cbc64133
DTSTART;VALUE=DATE:20191219
DESCRIPTION:Property ID# 467588\, Time: 11:00AM
SUMMARY:Auction for 
END:VEVENT
END:VCALENDAR
