BEGIN:VCALENDAR
VERSION:2.0
PRODID:icalendar-ruby
CALSCALE:GREGORIAN
BEGIN:VEVENT
DTSTAMP:20210120T054050Z
UID:d4bbeedc-dd8a-4942-b4e1-40556be2d693
DTSTART;VALUE=DATE:20191128
DESCRIPTION:Property ID# 466836\, Time: 11:00AM
SUMMARY:Auction for 
END:VEVENT
END:VCALENDAR
