BEGIN:VCALENDAR
VERSION:2.0
PRODID:icalendar-ruby
CALSCALE:GREGORIAN
BEGIN:VEVENT
DTSTAMP:20210120T052903Z
UID:0a4cc3b7-aa07-419b-b984-5672175b1cc9
DTSTART;VALUE=DATE:20191212
DESCRIPTION:Property ID# 466652\, Locatoin: 96 Ulster Street\, Hamilton\, T
 ime: 11:00AM
SUMMARY:Auction for 
END:VEVENT
END:VCALENDAR
