BEGIN:VCALENDAR
VERSION:2.0
PRODID:icalendar-ruby
CALSCALE:GREGORIAN
BEGIN:VEVENT
DTSTAMP:20210120T052908Z
UID:b902537c-71ee-4947-8a7f-7e38b0055be5
DTSTART;VALUE=DATE:20191121
DESCRIPTION:Property ID# 465066\, Locatoin: 96 Ulster Street\, Hamilton\, T
 ime: 11:00AM
SUMMARY:Auction for 
END:VEVENT
END:VCALENDAR
