BEGIN:VCALENDAR
VERSION:2.0
PRODID:icalendar-ruby
CALSCALE:GREGORIAN
BEGIN:VEVENT
DTSTAMP:20210120T054005Z
UID:ab606d17-df3f-43d5-9fc3-e44d83da173f
DTSTART;VALUE=DATE:20191205
DESCRIPTION:Property ID# 465064\, Locatoin: 96 Ulster Street\, Hamilton\, T
 ime: 11:00AM
SUMMARY:Auction for 
END:VEVENT
END:VCALENDAR
