BEGIN:VCALENDAR
VERSION:2.0
PRODID:icalendar-ruby
CALSCALE:GREGORIAN
BEGIN:VEVENT
DTSTAMP:20210120T053552Z
UID:3c2db97c-9f46-4ebc-969f-4de1507851be
DTSTART;VALUE=DATE:20191107
DESCRIPTION:Property ID# 464692\, Time: 11:00AM
SUMMARY:Auction for 
END:VEVENT
END:VCALENDAR
