BEGIN:VCALENDAR
VERSION:2.0
PRODID:icalendar-ruby
CALSCALE:GREGORIAN
BEGIN:VEVENT
DTSTAMP:20210120T053604Z
UID:824f3bf1-1453-4c32-88e0-924ec868bb47
DTSTART;VALUE=DATE:20191011
DESCRIPTION:Property ID# 462506\, Locatoin: 96 Ulster Street\, Hamilton\, T
 ime: 11:00AM
SUMMARY:Auction for 
END:VEVENT
END:VCALENDAR
