BEGIN:VCALENDAR
VERSION:2.0
PRODID:icalendar-ruby
CALSCALE:GREGORIAN
BEGIN:VEVENT
DTSTAMP:20210120T054040Z
UID:fabd7f1c-1bce-4329-9386-79edfeace598
DTSTART;VALUE=DATE:20191030
DESCRIPTION:Property ID# 461702\, Locatoin: 247 Cameron Road\, Tauranga (un
 less sold prior)\, Time: 1:00PM
SUMMARY:Auction for 
END:VEVENT
END:VCALENDAR
