BEGIN:VCALENDAR
VERSION:2.0
PRODID:icalendar-ruby
CALSCALE:GREGORIAN
BEGIN:VEVENT
DTSTAMP:20210120T053619Z
UID:736e7d27-f0c1-44f7-bc63-9d9035b16ee3
DTSTART;VALUE=DATE:20191021
DESCRIPTION:Property ID# 461337\, Locatoin: 96 Ulster Street\, Hamilton\, T
 ime: 4:00PM
SUMMARY:Auction for 
END:VEVENT
END:VCALENDAR
