BEGIN:VCALENDAR
VERSION:2.0
PRODID:icalendar-ruby
CALSCALE:GREGORIAN
BEGIN:VEVENT
DTSTAMP:20210120T053553Z
UID:ad7458eb-3ed5-4dd3-b022-3f160c457e81
DTSTART;VALUE=DATE:20200213
DESCRIPTION:Property ID# 461245\, Locatoin: 96 Ulster Street\, Hamilton\, T
 ime: 11:00AM
SUMMARY:Auction for 
END:VEVENT
END:VCALENDAR
