BEGIN:VCALENDAR
VERSION:2.0
PRODID:icalendar-ruby
CALSCALE:GREGORIAN
BEGIN:VEVENT
DTSTAMP:20210120T053633Z
UID:9a88e5cd-f199-4635-874f-f338c54d2afb
DTSTART;VALUE=DATE:20191017
DESCRIPTION:Property ID# 461157\, Locatoin: 96 Ulster Street\, Hamilton (un
 less sold prior)\, Time: 11:00AM
SUMMARY:Auction for 
END:VEVENT
END:VCALENDAR
