BEGIN:VCALENDAR
VERSION:2.0
PRODID:icalendar-ruby
CALSCALE:GREGORIAN
BEGIN:VEVENT
DTSTAMP:20210120T053635Z
UID:c32c27eb-2b08-4c54-8574-5eb58bff4208
DTSTART;VALUE=DATE:20190919
DESCRIPTION:Property ID# 460503\, Locatoin: 96 Ulster Street\, Hamilton (un
 less sold prior)\, Time: 11:00AM
SUMMARY:Auction for 
END:VEVENT
END:VCALENDAR
